BEGIN:VCALENDAR
VERSION:2.0
PRODID:icalendar-ruby
CALSCALE:GREGORIAN
BEGIN:VEVENT
DTSTAMP:20260328T120449Z
UID:event-occurrence-d523fbf0-9774-4175-b4c5-23f0bcc23088-event-0bf92673-ad
 8d-4393-9daf-0336fd4da728@termine-e
DTSTART:20260509T143000
DTEND:20260509T153000
CLASS:PUBLIC
DESCRIPTION:· Zeit zum Spielen· Feierzeit mit Gott· Gemeinsam EssenMitbr
 ingen: Picknickdecke (falls vorhanden) und TrinkbecherTreffpunkt: Spielpla
 tz Am Wischfeld
LOCATION:Spielplatz Am Wischfeld\, 21698\, Harsefeld
SUMMARY:Kunterbunte Familienzeit
END:VEVENT
END:VCALENDAR
