BEGIN:VCALENDAR
VERSION:2.0
PRODID:icalendar-ruby
CALSCALE:GREGORIAN
BEGIN:VEVENT
DTSTAMP:20260414T231351Z
UID:event-occurrence-0d78e537-4fcc-41bf-a0c8-891a87dc811c-event-0ba4e250-d5
 7c-4d34-a2d8-1103ae86c85e@termine-e
DTSTART:20260426T100000
DTEND:20260426T000000
CLASS:PUBLIC
DESCRIPTION:Konfirmationsgottesdienst mit Pastor Heyden und dem Posaunencho
 r.
LOCATION:St. Georgs-Kirche\, Wichmannsburg
SUMMARY:Konfirmation in Wichmannsburg
END:VEVENT
END:VCALENDAR
