BEGIN:VCALENDAR
VERSION:2.0
PRODID:icalendar-ruby
CALSCALE:GREGORIAN
BEGIN:VEVENT
DTSTAMP:20260420T142434Z
UID:event-occurrence-c0533f5c-d41b-447e-bf38-18dc16a52adf-event-0b94cea9-d5
 70-4ac9-8eb6-a4d26f94fbdb@termine-e
DTSTART:20260425T000000
DTEND:20260425T000000
CLASS:PUBLIC
LOCATION:
SUMMARY:Gottesdienst am Vorabend der Konfirmation um 18 Uhr
END:VEVENT
END:VCALENDAR
