BEGIN:VCALENDAR
VERSION:2.0
PRODID:icalendar-ruby
CALSCALE:GREGORIAN
BEGIN:VEVENT
DTSTAMP:20260401T102410Z
UID:event-occurrence-50d29465-5ae2-4f41-ad0d-7a8c0fd03652-event-0abc61a9-25
 cb-4567-83d0-76fa82bfe87d@termine-e
DTSTART:20260718T180000
DTEND:20260718T000000
CLASS:PUBLIC
DESCRIPTION:Werke von Bach\, Rheinberger\, Widor und Bossi
LOCATION:Marktkirche Hannover\, Hanns-Lilje-Platz 2\, 30159\, Hannover
SUMMARY:Orgelkonzert: Luca Benedicti (Turin)
END:VEVENT
END:VCALENDAR
