BEGIN:VCALENDAR
VERSION:2.0
PRODID:icalendar-ruby
CALSCALE:GREGORIAN
BEGIN:VEVENT
DTSTAMP:20260307T161037Z
UID:event-occurrence-f01d8f6c-8e7a-4c30-a9dc-fbc1a9419538-event-0aaaa82d-1b
 32-44bd-b8af-02da00d3cfbe@termine-e
DTSTART:20260315T100000
DTEND:20260315T000000
CLASS:PUBLIC
DESCRIPTION:LaetareGottesdienst mit Pn. Rebecca Brückner und dem Kindercho
 r St. NicolaiAnschließend lädt die St.-Nicolai-Gemeinde zum letzten Mal 
 zum #wärmewinter ein\, zum gemeinsamen Essen\, Trinken und zu guten Gespr
 ächen.
LOCATION:Lutherhaus\, Am Mönchehof 2\, 31061\, Alfeld
SUMMARY:Gottesdienst
END:VEVENT
END:VCALENDAR
