BEGIN:VCALENDAR
VERSION:2.0
PRODID:icalendar-ruby
CALSCALE:GREGORIAN
BEGIN:VEVENT
DTSTAMP:20260421T133221Z
UID:event-occurrence-63913399-9b99-42c9-b615-d0ba8e83ac1a-event-0aa1db65-2a
 41-497c-9dbd-8aa9f9868fef@termine-e
DTSTART:20260503T100000
DTEND:20260503T000000
CLASS:PUBLIC
LOCATION:St. Johannis-Kirche Lüchow\, An der St.-Johannis-Kirche\, 29439\,
  Lüchow
SUMMARY:Gottesdienst mit Abendmahl mit der Kantorei Pn. Pehlke-Siewert
END:VEVENT
END:VCALENDAR
