BEGIN:VCALENDAR
VERSION:2.0
PRODID:icalendar-ruby
CALSCALE:GREGORIAN
BEGIN:VEVENT
DTSTAMP:20260422T211105Z
UID:event-occurrence-2a3b3dfa-9cd9-480d-83ea-5b8be3f3d2cb-event-09c2629a-dd
 1e-459d-af35-c8aff5cc0f88@termine-e
DTSTART:20260820T190000
DTEND:20260820T220000
CLASS:PUBLIC
LOCATION:St. Thomas\, Bremer Str. 70\, 49163\, Bohmte
SUMMARY:KV-Sitzung
END:VEVENT
END:VCALENDAR
