BEGIN:VCALENDAR
VERSION:2.0
PRODID:icalendar-ruby
CALSCALE:GREGORIAN
BEGIN:VEVENT
DTSTAMP:20260330T174726Z
UID:event-occurrence-664c57e3-e674-41fb-9786-0886db3f0b6f-event-091ecfc4-d5
 7d-48f4-9582-fc0481c40d6e@termine-e
DTSTART:20260514T110000
DTEND:20260514T000000
CLASS:PUBLIC
DESCRIPTION:mit Pn. Schoppe
LOCATION:Gemeindesaal der Johanneskirchengemeinde\, Hallerstraße 3\, 30952
 \, Ronnenberg (OT Empelde)
SUMMARY:Gottesdienst zu Himmelfahrt in Empelde
END:VEVENT
END:VCALENDAR
