BEGIN:VCALENDAR
VERSION:2.0
PRODID:icalendar-ruby
CALSCALE:GREGORIAN
BEGIN:VEVENT
DTSTAMP:20260415T185058Z
UID:event-occurrence-10e5c6e0-1632-432a-a47c-fce4cdadffd5-event-08254fc6-2d
 9b-4723-928b-4225dedfd8ec@termine-e
DTSTART:20260502T110000
DTEND:20260502T000000
CLASS:PUBLIC
DESCRIPTION:Konfirmation II in der Kreuzkirche mit Pastor Lars Kotterba
LOCATION:Kreuzkirche Lingen\, 49808\, Lingen
SUMMARY:Konfirmation II in der Kreuzkirche mit Pastor Lars Kotterba
END:VEVENT
END:VCALENDAR
