BEGIN:VCALENDAR
VERSION:2.0
PRODID:icalendar-ruby
CALSCALE:GREGORIAN
BEGIN:VEVENT
DTSTAMP:20260420T144511Z
UID:event-occurrence-874c520c-35dd-48e8-84f5-d63ee80f3f1d-event-07b5442c-0b
 53-4ae5-a987-f389126a586b@termine-e
DTSTART:20260426T000000
DTEND:20260426T000000
CLASS:PUBLIC
LOCATION:
SUMMARY:Konfirmationsgottesdienst um 11.30 Uhr (Gruppe II)
END:VEVENT
END:VCALENDAR
