BEGIN:VCALENDAR
VERSION:2.0
PRODID:icalendar-ruby
CALSCALE:GREGORIAN
BEGIN:VEVENT
DTSTAMP:20260412T192500Z
UID:event-occurrence-af9225a8-6c8a-45dc-addf-bdd63b4509a8-event-06c33793-89
 73-4996-b6e5-ea3d0e439332@termine-e
DTSTART:20260726T103000
DTEND:20260726T000000
CLASS:PUBLIC
DESCRIPTION:Pn. FröhlichMusik: Rauterberg\, Gitarre
LOCATION:Friedrichsquelle\, Bombergallee 3\, 31812\, Bad Pyrmont
SUMMARY:Wandergottesdienst
END:VEVENT
END:VCALENDAR
