BEGIN:VCALENDAR
VERSION:2.0
PRODID:icalendar-ruby
CALSCALE:GREGORIAN
BEGIN:VEVENT
DTSTAMP:20260327T100231Z
UID:event-occurrence-8740adbc-eca8-4b3d-82e6-19d56a3931e2-event-06a4c9d1-99
 5c-4519-a28d-514ba42b7e9a@termine-e
DTSTART:20260502T103000
DTEND:20260502T000000
CLASS:PUBLIC
DESCRIPTION:Bilder vom Älterwerden – Risken und Nebenwirkungen.Kurzimpul
 s mit Dr. Dagmar Henze
LOCATION:St. Lamberti Hildesheim
SUMMARY:Kurzimpuls - PASSAGE Die Dinge | Das Leben - Fotoausstellung von Kl
 aus G. Kohn
END:VEVENT
END:VCALENDAR
