BEGIN:VCALENDAR
VERSION:2.0
PRODID:icalendar-ruby
CALSCALE:GREGORIAN
BEGIN:VEVENT
DTSTAMP:20260314T143509Z
UID:event-occurrence-bc427cf3-2336-4808-bbcc-5d77f2dbcb38-event-04d35116-7f
 07-4eb9-aba3-9ac6bd3e2ce6@termine-e
DTSTART:20260908T170000
DTEND:20260908T190000
CLASS:PUBLIC
DESCRIPTION:In dieser Einheit vertiefen die Konfis das Thema Gebet. Gemeins
 am schauen wir uns das Vaterunser genauer an\, das wichtigste Gebet der Ch
 ristenheit. Die Jugendlichen entdecken\, was die einzelnen Bitten bedeuten
  und warum dieses Gebet bis heute weltweit von Christinnen und Christen ge
 sprochen wird.
LOCATION:Gemeindehaus der ev.-luth. Kirche St. Marien\, Kirchstraße 4\, 29
 339\, Wathlingen
SUMMARY:KU07: Beten II + Vaterunser
END:VEVENT
END:VCALENDAR
