BEGIN:VCALENDAR
VERSION:2.0
PRODID:icalendar-ruby
CALSCALE:GREGORIAN
BEGIN:VEVENT
DTSTAMP:20260414T230945Z
UID:event-occurrence-b70097f2-653d-4e25-b82b-5fb2c77c33b0-event-03fa740b-b4
 e5-4220-a594-e3d4380127f8@termine-e
DTSTART:20260426T100000
DTEND:20260426T000000
CLASS:PUBLIC
DESCRIPTION:Die Kirche mit Kindern startet diesmal ausnahmsweise parallel z
 um Konfirmationsgottesdienst um 10 Uhr im Gemeindehaus Wichmannsburg! Wir 
 freuen uns auf Euch!
LOCATION:Gemeindehaus Wichmannsburg\, Billungstraße 29\, 29553\, Bienenbü
 ttel
SUMMARY:Kirche mit Kindern in Wichmannsburg
END:VEVENT
END:VCALENDAR
