BEGIN:VCALENDAR
VERSION:2.0
PRODID:icalendar-ruby
CALSCALE:GREGORIAN
BEGIN:VEVENT
DTSTAMP:20260409T093429Z
UID:event-occurrence-4f470ca6-52a8-4c7f-83db-63573abbdb1c-event-02dde137-4c
 83-4702-816e-29fd478a6624@termine-e
DTSTART:20261027T140000
DTEND:20261027T153000
CLASS:PUBLIC
DESCRIPTION:In 90 Minuten per ZOOM informiert Sie Cai Franke\, Datenschutzb
 eauftragter der Evangelisch-lutherischen Landeskirche Hannovers über Date
 nschutz in der Anwendung im Pfarramtsbüro.
LOCATION:
SUMMARY:Impulstreffen: Datenschutz im Pfarramtsbüro
END:VEVENT
END:VCALENDAR
