BEGIN:VCALENDAR
VERSION:2.0
PRODID:icalendar-ruby
CALSCALE:GREGORIAN
BEGIN:VEVENT
DTSTAMP:20251217T142608Z
UID:event-occurrence-3883a9bd-9aa5-46b8-91a5-ab899d20c4e5-event-0280a3ae-88
 e0-401f-891c-30e30be251f3@termine-e
DTSTART:20260108T153000
DTEND:20260108T000000
CLASS:PUBLIC
DESCRIPTION:Gottesdienst im Seniorenheim Theresenhof Hoheneggelsen - Prädi
 kant Peter Meiners
LOCATION:Seniorenheim Theresenhof\, Hauptstr. 57\, 31185\, Söhlde-Hohenegg
 elsen
SUMMARY:Gottesdienst Theresenhof Hoheneggelsen
END:VEVENT
END:VCALENDAR
