BEGIN:VCALENDAR
VERSION:2.0
PRODID:icalendar-ruby
CALSCALE:GREGORIAN
BEGIN:VEVENT
DTSTAMP:20260317T143347Z
UID:event-occurrence-eeea61c9-79a8-4e0a-89a1-74165a1d7d94-event-0241f9ce-c9
 f3-4902-a9c7-215815c7a4bf@termine-e
DTSTART:20260606T100000
DTEND:20260606T160000
CLASS:PUBLIC
DESCRIPTION:Männer zwischen Verunsicherung und Perspektiven„Es traf sie 
 ins Herz“ (Apg. 2\,37) – Mit diesen Worten beschreibt die Bibel einen 
 Moment tiefster Erschütterung\, aber auch einen christlichen Neuanfang. M
 änner stehen heute oft zwischen den Stühlen: Alte Sicherheiten schwinden
 \, neue Rollenbilder fordern uns heraus. Über allem steht die generatione
 nübergreifende Frage: Was geben wir weiter?Gilt das alte Versprechen noch
 : „Meinen Kindern soll es einmal besser gehen“? Und was bedeutet „be
 sser“ in ei...
LOCATION:Hanns-Lilje-Haus\, Knochenhauerstraße 33\, 30159\, Hannover
SUMMARY:Werkstatt zum Männersonntag 2026
END:VEVENT
END:VCALENDAR
