BEGIN:VCALENDAR
VERSION:2.0
PRODID:icalendar-ruby
CALSCALE:GREGORIAN
BEGIN:VEVENT
DTSTAMP:20260416T193147Z
UID:event-occurrence-83753d31-b54c-44e0-8d55-658c89370e68-event-01ea3515-fa
 a6-46bc-af9b-e748e6058f25@termine-e
DTSTART:20260623T190000
DTEND:20260623T000000
CLASS:PUBLIC
LOCATION:Kirche St. Martin\, Kirchplatz 1\, 31582\, Nienburg
SUMMARY:Sommerkonzert mit Ohrwürmern (Nienburger Kantorei\, Nienburger Kam
 merorchester und Solisten) Leitung: Tina Röber-Burzeya
END:VEVENT
END:VCALENDAR
