BEGIN:VCALENDAR
VERSION:2.0
PRODID:icalendar-ruby
CALSCALE:GREGORIAN
BEGIN:VEVENT
DTSTAMP:20260419T191234Z
UID:event-occurrence-1745a9f8-02a9-4005-831c-1cbefc8f0fb2-event-00f010f5-a2
 9e-44d3-84ca-af21d859ac3f@termine-e
DTSTART:20260520T143000
DTEND:20260520T163000
CLASS:PUBLIC
LOCATION:Gemeindehaus Eldagsen
SUMMARY:Gemeindekaffee Eldagsen
END:VEVENT
END:VCALENDAR
