BEGIN:VCALENDAR
VERSION:2.0
PRODID:icalendar-ruby
CALSCALE:GREGORIAN
BEGIN:VEVENT
DTSTAMP:20260326T130729Z
UID:event-occurrence-122023a0-d175-41af-b2b4-bac832a1b6bd-event-00ca5271-70
 9b-4bed-a5c7-a8f66a8dbcbe@termine-e
DTSTART:20261102T100000
DTEND:20261103T160000
CLASS:PUBLIC
DESCRIPTION:Wir sind in vielen Bereichen eine erschöpfte Gesellschaft\,die
  sich nach einem gesunden Lebens- undWohnumfeld\, nach Zugehörigkeit\, Pa
 rtizipation undFrieden sehnt. Eine Antwort kann hier der Aufbau\,die Umset
 zung und die Verstetigung von SorgendenGemeinschaften (Caring Communities)
  sein.Wie beantworten wir die Frage nach dem guten Lebenfür alle? Welche 
 Visionen treiben uns an? Wasgibt es schon an Bündnissen und Initiativen\,
  an diewir vor Ort anknüpfen können? Was bedeutet gutesLeben im Alter\, 
 do...
LOCATION:Stephansstift Zentrum für Erwachsenenbildung gGmbH\, Kirchröder 
 Straße 44\, 30625\, Hannover
SUMMARY:älterwerden.endlich.leben Modul 2_Sorgende Gemeinschaften – Quar
 tiersentwicklung mit Zukunft
END:VEVENT
END:VCALENDAR
