BEGIN:VCALENDAR
VERSION:2.0
PRODID:icalendar-ruby
CALSCALE:GREGORIAN
BEGIN:VEVENT
DTSTAMP:20260421T134756Z
UID:event-occurrence-c01fad3f-f225-46e6-8956-0e68b6065242-event-006eccf5-4c
 54-4181-af5a-f571e82070b5@termine-e
DTSTART:20260524T100000
DTEND:20260524T000000
CLASS:PUBLIC
DESCRIPTION:Auch in diesem Jahr möchten wir Pfingsten in unseren drei sch
 önen Kapellen feiern und dazu gemeinsam mit dem Fahrrad unterwegs sein. S
 tart ist an der Kolborner Kapelle\, weiter geht’s nach Jeetzel und schli
 eßlich zur Kapelle in Lübeln. 10.00 Uhr Kapelle Kolborn 11.15 Uhr Kapell
 e Jeetzel 12.30 Uhr Kapelle Lübeln. Ende der gemeinsamen Zeit ist gegen 1
 2.45 Uhr – womöglich ein guter Zeitpunkt\, um den Tag auf der KLP fortz
 uführen. Wir freuen uns\, wenn es eine Gruppe gibt\, die die ganze Streck
 e fähr...
LOCATION:Kapelle Kolborn\, Kapellenstraße\, 29439\, Kolborn
SUMMARY:Gottesdienst mit Kapellentour (Kolborn\, Jeetzel\, Lübeln) Dn. Thi
 emann und Team
END:VEVENT
END:VCALENDAR
